BEGIN:VCALENDAR
VERSION:2.0
PRODID:-//Plone.org//NONSGML plone.app.event//EN
X-WR-TIMEZONE:Europe/Berlin
BEGIN:VEVENT
SUMMARY:Recepção da imagem da Virgem Peregrina: Eucaristia\, Procissão 
 e Convívio
DTSTART;TZID=Europe/Berlin;VALUE=DATE-TIME:20260503T173000
DTEND;TZID=Europe/Berlin;VALUE=DATE-TIME:20260503T193000
DTSTAMP;VALUE=DATE-TIME:20260420T041445Z
UID:f802eda2dab549bfafed3f05c7510d23@localhost:16090
CREATED;VALUE=DATE-TIME:20260401T144326Z
LAST-MODIFIED;VALUE=DATE-TIME:20260409T083416Z
LOCATION:Igreja St. Felix und Regula - Zürich
URL:https://www.missaocatolica.ch/novidades-e-eventos/eventos/recepcao-da-
 imagem-da-virgem-peregrina-eucaristia-e-procissao
END:VEVENT
BEGIN:VTIMEZONE
TZID:Europe/Berlin
X-LIC-LOCATION:Europe/Berlin
BEGIN:DAYLIGHT
DTSTART;VALUE=DATE-TIME:20260329T030000
TZNAME:CEST
TZOFFSETFROM:+0100
TZOFFSETTO:+0200
END:DAYLIGHT
END:VTIMEZONE
END:VCALENDAR
