BEGIN:VCALENDAR
VERSION:2.0
PRODID:-//Plone.org//NONSGML plone.app.event//EN
X-WR-TIMEZONE:Europe/Berlin
BEGIN:VEVENT
SUMMARY:Peregrinação a Einsiedeln
DTSTART;TZID=Europe/Berlin;VALUE=DATE-TIME:20241006T120000
DTEND;TZID=Europe/Berlin;VALUE=DATE-TIME:20241006T140000
DTSTAMP;VALUE=DATE-TIME:20260420T103950Z
UID:347e6955d351478891a1a9b6af40b40d@localhost:16090
CREATED;VALUE=DATE-TIME:20240625T130312Z
LAST-MODIFIED;VALUE=DATE-TIME:20250915T092035Z
LOCATION:Kloster Einsiedeln
URL:https://www.missaocatolica.ch/novidades-e-eventos/eventos/peregrinacao
 -a-einsiedeln
END:VEVENT
BEGIN:VTIMEZONE
TZID:Europe/Berlin
X-LIC-LOCATION:Europe/Berlin
BEGIN:DAYLIGHT
DTSTART;VALUE=DATE-TIME:20240331T030000
TZNAME:CEST
TZOFFSETFROM:+0100
TZOFFSETTO:+0200
END:DAYLIGHT
END:VTIMEZONE
END:VCALENDAR
