BEGIN:VCALENDAR
VERSION:2.0
PRODID:-//Plone.org//NONSGML plone.app.event//EN
X-WR-TIMEZONE:Europe/Berlin
BEGIN:VEVENT
SUMMARY:Celebração Mariana
DTSTART;TZID=Europe/Berlin;VALUE=DATE-TIME:20260505T193000
DTEND;TZID=Europe/Berlin;VALUE=DATE-TIME:20260505T203000
DTSTAMP;VALUE=DATE-TIME:20260420T041230Z
UID:16930e6dff724d318b78e2d985a56ec1@localhost:16090
CREATED;VALUE=DATE-TIME:20260409T082439Z
DESCRIPTION:Visita da imagem peregrina de N. Sra. de Fátima
LAST-MODIFIED;VALUE=DATE-TIME:20260409T084011Z
LOCATION:Igreja St. Peter - Rümlang
URL:https://www.missaocatolica.ch/novidades-e-eventos/eventos/celebracao-m
 ariana-1
END:VEVENT
BEGIN:VTIMEZONE
TZID:Europe/Berlin
X-LIC-LOCATION:Europe/Berlin
BEGIN:DAYLIGHT
DTSTART;VALUE=DATE-TIME:20260329T030000
TZNAME:CEST
TZOFFSETFROM:+0100
TZOFFSETTO:+0200
END:DAYLIGHT
END:VTIMEZONE
END:VCALENDAR
